BEGIN:VCALENDAR
VERSION:2.0
PRODID:-//PSV Duisburg - ECPv6.15.17.1//NONSGML v1.0//EN
CALSCALE:GREGORIAN
METHOD:PUBLISH
X-WR-CALNAME:PSV Duisburg
X-ORIGINAL-URL:https://psv-duisburg.de
X-WR-CALDESC:Veranstaltungen für PSV Duisburg
REFRESH-INTERVAL;VALUE=DURATION:PT1H
X-Robots-Tag:noindex
X-PUBLISHED-TTL:PT1H
BEGIN:VTIMEZONE
TZID:Europe/Berlin
BEGIN:DAYLIGHT
TZOFFSETFROM:+0100
TZOFFSETTO:+0200
TZNAME:CEST
DTSTART:20210328T010000
END:DAYLIGHT
BEGIN:STANDARD
TZOFFSETFROM:+0200
TZOFFSETTO:+0100
TZNAME:CET
DTSTART:20211031T010000
END:STANDARD
BEGIN:DAYLIGHT
TZOFFSETFROM:+0100
TZOFFSETTO:+0200
TZNAME:CEST
DTSTART:20220327T010000
END:DAYLIGHT
BEGIN:STANDARD
TZOFFSETFROM:+0200
TZOFFSETTO:+0100
TZNAME:CET
DTSTART:20221030T010000
END:STANDARD
BEGIN:DAYLIGHT
TZOFFSETFROM:+0100
TZOFFSETTO:+0200
TZNAME:CEST
DTSTART:20230326T010000
END:DAYLIGHT
BEGIN:STANDARD
TZOFFSETFROM:+0200
TZOFFSETTO:+0100
TZNAME:CET
DTSTART:20231029T010000
END:STANDARD
END:VTIMEZONE
BEGIN:VEVENT
DTSTART;TZID=Europe/Berlin:20220818T173000
DTEND;TZID=Europe/Berlin:20220818T203000
DTSTAMP:20260421T101220
CREATED:20220810T121721Z
LAST-MODIFIED:20220810T185634Z
UID:4437-1660843800-1660854600@psv-duisburg.de
SUMMARY:GK1\, GK2\, GK3: Ligawettkampf Großkaliber in Ratingen
DESCRIPTION:LLZ Ratin­gen\nEs schie­ßen die Mann­schaf­ten: GK1\, GK2\, GK3 \n 
URL:https://psv-duisburg.de/event/ligawettkampf-grosskaliber-in-ratingen/
LOCATION:<span class="caps">LLZ</span> Ratin­gen\, Gothaerstr. 25\, Ratingen\, NRW\, 40880
CATEGORIES:Liga-Wettkampf
ORGANIZER;CN="Polizeisportverein Duisburg 1920 e.V. - Abteilung Schie%C3%9Fsport":MAILTO:rdietze1@web.de
END:VEVENT
END:VCALENDAR