BEGIN:VCALENDAR
VERSION:2.0
PRODID:-//PSV Duisburg - ECPv6.15.17.1//NONSGML v1.0//EN
CALSCALE:GREGORIAN
METHOD:PUBLISH
X-WR-CALNAME:PSV Duisburg
X-ORIGINAL-URL:https://psv-duisburg.de
X-WR-CALDESC:Veranstaltungen für PSV Duisburg
REFRESH-INTERVAL;VALUE=DURATION:PT1H
X-Robots-Tag:noindex
X-PUBLISHED-TTL:PT1H
BEGIN:VTIMEZONE
TZID:Europe/Berlin
BEGIN:DAYLIGHT
TZOFFSETFROM:+0100
TZOFFSETTO:+0200
TZNAME:CEST
DTSTART:20250330T010000
END:DAYLIGHT
BEGIN:STANDARD
TZOFFSETFROM:+0200
TZOFFSETTO:+0100
TZNAME:CET
DTSTART:20251026T010000
END:STANDARD
BEGIN:DAYLIGHT
TZOFFSETFROM:+0100
TZOFFSETTO:+0200
TZNAME:CEST
DTSTART:20260329T010000
END:DAYLIGHT
BEGIN:STANDARD
TZOFFSETFROM:+0200
TZOFFSETTO:+0100
TZNAME:CET
DTSTART:20261025T010000
END:STANDARD
BEGIN:DAYLIGHT
TZOFFSETFROM:+0100
TZOFFSETTO:+0200
TZNAME:CEST
DTSTART:20270328T010000
END:DAYLIGHT
BEGIN:STANDARD
TZOFFSETFROM:+0200
TZOFFSETTO:+0100
TZNAME:CET
DTSTART:20271031T010000
END:STANDARD
END:VTIMEZONE
BEGIN:VEVENT
DTSTART;TZID=Europe/Berlin:20260222T140000
DTEND;TZID=Europe/Berlin:20260222T170000
DTSTAMP:20260423T154229
CREATED:20260122T135308Z
LAST-MODIFIED:20260122T135332Z
UID:7841-1771768800-1771779600@psv-duisburg.de
SUMMARY:RSB Bezirksmeisterschaft Freie Pistole - beim SV Drevenack
DESCRIPTION:Heute schie­ßen unsere Schüt­zen die Bezirks­meis­ter­schaft in der Dis­zi­plin 2.20 Freie Pis­tole und 2.21 Freie Pis­tole Auf­lage. \nWir wün­schen allen Teil­neh­mern viel Erfolg.
URL:https://psv-duisburg.de/event/rsb-bezirksmeisterschaft-freie-pistole-beim-sv-drevenack/
LOCATION:<span class="caps">SV</span> Dre­venack 1788\, Buschweg 6\, Hünxe\, 46569\, Deutschland
CATEGORIES:Bezirksmeisterschaft,PSV Schießsport
END:VEVENT
END:VCALENDAR