BEGIN:VCALENDAR
VERSION:2.0
PRODID:-//PSV Duisburg - ECPv6.15.17.1//NONSGML v1.0//EN
CALSCALE:GREGORIAN
METHOD:PUBLISH
X-WR-CALNAME:PSV Duisburg
X-ORIGINAL-URL:https://psv-duisburg.de
X-WR-CALDESC:Veranstaltungen für PSV Duisburg
REFRESH-INTERVAL;VALUE=DURATION:PT1H
X-Robots-Tag:noindex
X-PUBLISHED-TTL:PT1H
BEGIN:VTIMEZONE
TZID:Europe/Berlin
BEGIN:DAYLIGHT
TZOFFSETFROM:+0100
TZOFFSETTO:+0200
TZNAME:CEST
DTSTART:20250330T010000
END:DAYLIGHT
BEGIN:STANDARD
TZOFFSETFROM:+0200
TZOFFSETTO:+0100
TZNAME:CET
DTSTART:20251026T010000
END:STANDARD
BEGIN:DAYLIGHT
TZOFFSETFROM:+0100
TZOFFSETTO:+0200
TZNAME:CEST
DTSTART:20260329T010000
END:DAYLIGHT
BEGIN:STANDARD
TZOFFSETFROM:+0200
TZOFFSETTO:+0100
TZNAME:CET
DTSTART:20261025T010000
END:STANDARD
BEGIN:DAYLIGHT
TZOFFSETFROM:+0100
TZOFFSETTO:+0200
TZNAME:CEST
DTSTART:20270328T010000
END:DAYLIGHT
BEGIN:STANDARD
TZOFFSETFROM:+0200
TZOFFSETTO:+0100
TZNAME:CET
DTSTART:20271031T010000
END:STANDARD
END:VTIMEZONE
BEGIN:VEVENT
DTSTART;TZID=Europe/Berlin:20260228T080000
DTEND;TZID=Europe/Berlin:20260228T170000
DTSTAMP:20260425T123709
CREATED:20260123T152053Z
LAST-MODIFIED:20260123T152053Z
UID:7898-1772265600-1772298000@psv-duisburg.de
SUMMARY:NRW - Trophy Fallscheibe 2026 in Hückelhoven
DESCRIPTION:Am 21.02. und 28.02.2026 fin­det die NRW – Tro­phy Fall­scheibe 2026 in Hückel­ho­ven statt. \nDer PSV nimmt mit vier Schüt­zen bei fol­gen­den Dis­zi­pli­nen teil: \n\n1301\,5 – Pistole\n1322\,3 – Pis­tole mit Anschlag­schaft\, opti­sche Visierung\n1510\,3 – Freie Klasse Pis­tole .22 lr/5\,6 mm offene Visierung\n1519\,3 – Freie Klasse Pis­tole .22 lr/5\,6 mm mit Optik\n4401\,5 – Fall­scheibe Flinte – Selbst­la­de­flinte\, offene Visierung\n4402\,5 – Fall­scheibe Flinte – Selbst­la­de­flinte\, opti­sche Visierung\n4403\,5 – Fall­scheibe Flinte – Repe­tier­flinte\, offene Visierung\n4404\,5 – Fall­scheibe Flinte – Repe­tier­flinte\, opti­sche Visierung\n4405\,3 – Fall­scheibe Flinte – Dop­pel­flinte mit Ejektor\n4406\,3 – Fall­scheibe Flinte – Dop­pel­flinte ohne Ejektor\n\nDie Ergeb­nisse zäh­len bei unse­rer BDS VM 2026.
URL:https://psv-duisburg.de/event/nrw-trophy-fallscheibe-2026-in-hueckelhoven-2/
LOCATION:<span class="caps">SSV</span> Rur­tal Hückel­ho­ven 1973 e.V.\, Houverather Straße 8\, Hückelhoven\, 41836
CATEGORIES:BDS,PSV Schießsport,Vereinsmeisterschaft
END:VEVENT
BEGIN:VEVENT
DTSTART;TZID=Europe/Berlin:20260228T090000
DTEND;TZID=Europe/Berlin:20260228T130000
DTSTAMP:20260425T123710
CREATED:20260201T155004Z
LAST-MODIFIED:20260201T155035Z
UID:7929-1772269200-1772283600@psv-duisburg.de
SUMMARY:Training der Trapschützen in Hünxe
DESCRIPTION:Schies­stand Hünxe::  Jeden letz­ten Sams­tag im Monat außer es fin­det eine Meis­ter­schaft in den Monat statt​.Es erwar­ten euch eine tolle Stand­ge­mein­schaft\, heis­ser Kaf­fee\, und unge­mein viele Wurf­schei­ben zum Kaputt machen..:-))Wir freuen uns auf euch.
URL:https://psv-duisburg.de/event/training-trap-in-huenxe/
END:VEVENT
BEGIN:VEVENT
DTSTART;TZID=Europe/Berlin:20260228T100000
DTEND;TZID=Europe/Berlin:20260228T153000
DTSTAMP:20260425T123710
CREATED:20260122T134910Z
LAST-MODIFIED:20260122T134911Z
UID:7839-1772272800-1772292600@psv-duisburg.de
SUMMARY:RSB Bezirksmeisterschaft Luftpistole - LLZ Brünen
DESCRIPTION:Heute schie­ßen unsere Schüt­zen die Bezirks­meis­ter­schaft in der Dis­zi­plin Luftpistole. \nWir wün­schen allen Teil­neh­mern viel Erfolg.
URL:https://psv-duisburg.de/event/rsb-bezirksmeisterschaft-luftpistole-llz-bruenen/
LOCATION:<span class="caps">KKS</span> Brü­nen\, Bergstr. 37b\, Hamminkeln\, 46499
CATEGORIES:Bezirksmeisterschaft,PSV Schießsport
END:VEVENT
BEGIN:VEVENT
DTSTART;TZID=Europe/Berlin:20260228T100000
DTEND;TZID=Europe/Berlin:20260228T160000
DTSTAMP:20260425T123710
CREATED:20260122T141706Z
LAST-MODIFIED:20260122T141733Z
UID:7858-1772272800-1772294400@psv-duisburg.de
SUMMARY:RSB Bezirksmeisterschaft 2.55 Großkaliberrevolver .357 Mag. - beim KKS Brünen
DESCRIPTION:Heute und am 07.03.2026 schie­ßen unsere Schüt­zen die Bezirks­meis­ter­schaft in der Dis­zi­plin 2.55 .357 Magnum Groß­ka­li­ber Sport­re­vol­ver. \nWir wün­schen allen Teil­neh­mern viel Erfolg.
URL:https://psv-duisburg.de/event/rsb-bezirksmeisterschaft-2-55-grosskaliberrevolver-357-mag-beim-kks-bruenen/
LOCATION:<span class="caps">KKS</span> Brü­nen\, Bergstr. 37b\, Hamminkeln\, 46499
CATEGORIES:Bezirksmeisterschaft,PSV Schießsport
END:VEVENT
BEGIN:VEVENT
DTSTART;TZID=Europe/Berlin:20260228T120000
DTEND;TZID=Europe/Berlin:20260228T140000
DTSTAMP:20260425T123710
CREATED:20260122T142302Z
LAST-MODIFIED:20260122T142424Z
UID:7863-1772280000-1772287200@psv-duisburg.de
SUMMARY:RSB Bezirksmeisterschaft 2.58 Großkaliberrevolver .44 mag. - beim KKS Brünen
DESCRIPTION:Heute schie­ßen unsere Schüt­zen die Bezirks­meis­ter­schaft in der Dis­zi­plin 2.58 .44 Magnum Groß­ka­li­ber Sport­re­vol­ver. \nWir wün­schen allen Teil­neh­mern viel Erfolg.
URL:https://psv-duisburg.de/event/rsb-bezirksmeisterschaft-2-58-grosskaliberrevolver-44-mag-beim-kks-bruenen/
LOCATION:<span class="caps">KKS</span> Brü­nen\, Bergstr. 37b\, Hamminkeln\, 46499
CATEGORIES:Bezirksmeisterschaft,PSV Schießsport
END:VEVENT
END:VCALENDAR