BEGIN:VCALENDAR
VERSION:2.0
PRODID:-//PSV Duisburg - ECPv6.15.17.1//NONSGML v1.0//EN
CALSCALE:GREGORIAN
METHOD:PUBLISH
X-ORIGINAL-URL:https://psv-duisburg.de
X-WR-CALDESC:Veranstaltungen für PSV Duisburg
REFRESH-INTERVAL;VALUE=DURATION:PT1H
X-Robots-Tag:noindex
X-PUBLISHED-TTL:PT1H
BEGIN:VTIMEZONE
TZID:Europe/Berlin
BEGIN:DAYLIGHT
TZOFFSETFROM:+0100
TZOFFSETTO:+0200
TZNAME:CEST
DTSTART:20250330T010000
END:DAYLIGHT
BEGIN:STANDARD
TZOFFSETFROM:+0200
TZOFFSETTO:+0100
TZNAME:CET
DTSTART:20251026T010000
END:STANDARD
BEGIN:DAYLIGHT
TZOFFSETFROM:+0100
TZOFFSETTO:+0200
TZNAME:CEST
DTSTART:20260329T010000
END:DAYLIGHT
BEGIN:STANDARD
TZOFFSETFROM:+0200
TZOFFSETTO:+0100
TZNAME:CET
DTSTART:20261025T010000
END:STANDARD
BEGIN:DAYLIGHT
TZOFFSETFROM:+0100
TZOFFSETTO:+0200
TZNAME:CEST
DTSTART:20270328T010000
END:DAYLIGHT
BEGIN:STANDARD
TZOFFSETFROM:+0200
TZOFFSETTO:+0100
TZNAME:CET
DTSTART:20271031T010000
END:STANDARD
END:VTIMEZONE
BEGIN:VEVENT
DTSTART;TZID=Europe/Berlin:20260307T100000
DTEND;TZID=Europe/Berlin:20260307T140000
DTSTAMP:20260423T140240
CREATED:20260122T142026Z
LAST-MODIFIED:20260122T142026Z
UID:7861-1772877600-1772892000@psv-duisburg.de
SUMMARY:RSB Bezirksmeisterschaft 2.55 Großkaliberrevolver .357 Mag. - bei KKS Brünen
DESCRIPTION:Heute und bereits am 28.02.2026 schie­ßen unsere Schüt­zen die Bezirks­meis­ter­schaft in der Dis­zi­plin 2.55 .357 Magnum Groß­ka­li­ber Sport­re­vol­ver. \nWir wün­schen allen Teil­neh­mern viel Erfolg.
URL:https://psv-duisburg.de/event/rsb-bezirksmeisterschaft-2-55-grosskaliberrevolver-357-mag-bei-kks-bruenen/
LOCATION:<span class="caps">KKS</span> Brü­nen\, Bergstr. 37b\, Hamminkeln\, 46499
CATEGORIES:Bezirksmeisterschaft,PSV Schießsport
END:VEVENT
END:VCALENDAR