BEGIN:VCALENDAR
VERSION:2.0
PRODID:-//PSV Duisburg - ECPv6.15.17.1//NONSGML v1.0//EN
CALSCALE:GREGORIAN
METHOD:PUBLISH
X-ORIGINAL-URL:https://psv-duisburg.de
X-WR-CALDESC:Veranstaltungen für PSV Duisburg
REFRESH-INTERVAL;VALUE=DURATION:PT1H
X-Robots-Tag:noindex
X-PUBLISHED-TTL:PT1H
BEGIN:VTIMEZONE
TZID:Europe/Berlin
BEGIN:DAYLIGHT
TZOFFSETFROM:+0100
TZOFFSETTO:+0200
TZNAME:CEST
DTSTART:20250330T010000
END:DAYLIGHT
BEGIN:STANDARD
TZOFFSETFROM:+0200
TZOFFSETTO:+0100
TZNAME:CET
DTSTART:20251026T010000
END:STANDARD
BEGIN:DAYLIGHT
TZOFFSETFROM:+0100
TZOFFSETTO:+0200
TZNAME:CEST
DTSTART:20260329T010000
END:DAYLIGHT
BEGIN:STANDARD
TZOFFSETFROM:+0200
TZOFFSETTO:+0100
TZNAME:CET
DTSTART:20261025T010000
END:STANDARD
BEGIN:DAYLIGHT
TZOFFSETFROM:+0100
TZOFFSETTO:+0200
TZNAME:CEST
DTSTART:20270328T010000
END:DAYLIGHT
BEGIN:STANDARD
TZOFFSETFROM:+0200
TZOFFSETTO:+0100
TZNAME:CET
DTSTART:20271031T010000
END:STANDARD
END:VTIMEZONE
BEGIN:VEVENT
DTSTART;TZID=Europe/Berlin:20260725T080000
DTEND;TZID=Europe/Berlin:20260725T130000
DTSTAMP:20260423T154728
CREATED:20260201T155258Z
LAST-MODIFIED:20260329T063813Z
UID:7934-1784966400-1784984400@psv-duisburg.de
SUMMARY:Vereinsmeisterschaft der Trapschützen in Hünxe Teil II für alle die beim ersten mal nicht konnten
DESCRIPTION:Schies­stand Hünxe:: \nSchies­stand Hünxe:: Heute fin­det der zweite  Ter­min unse­rer Ver­eins­meis­ter­schaft statt. Wir freuen uns auf zahl­rei­che Teilnahme. \nBis bald..
URL:https://psv-duisburg.de/event/training-der-trapschuetzen-in-huenxe/
LOCATION:Wese­ler Str. 78\, 46569 Hünxe
END:VEVENT
END:VCALENDAR