BEGIN:VCALENDAR
VERSION:2.0
PRODID:-//PSV Duisburg - ECPv6.15.17.1//NONSGML v1.0//EN
CALSCALE:GREGORIAN
METHOD:PUBLISH
X-ORIGINAL-URL:https://psv-duisburg.de
X-WR-CALDESC:Veranstaltungen für PSV Duisburg
REFRESH-INTERVAL;VALUE=DURATION:PT1H
X-Robots-Tag:noindex
X-PUBLISHED-TTL:PT1H
BEGIN:VTIMEZONE
TZID:Europe/Berlin
BEGIN:DAYLIGHT
TZOFFSETFROM:+0100
TZOFFSETTO:+0200
TZNAME:CEST
DTSTART:20250330T010000
END:DAYLIGHT
BEGIN:STANDARD
TZOFFSETFROM:+0200
TZOFFSETTO:+0100
TZNAME:CET
DTSTART:20251026T010000
END:STANDARD
BEGIN:DAYLIGHT
TZOFFSETFROM:+0100
TZOFFSETTO:+0200
TZNAME:CEST
DTSTART:20260329T010000
END:DAYLIGHT
BEGIN:STANDARD
TZOFFSETFROM:+0200
TZOFFSETTO:+0100
TZNAME:CET
DTSTART:20261025T010000
END:STANDARD
BEGIN:DAYLIGHT
TZOFFSETFROM:+0100
TZOFFSETTO:+0200
TZNAME:CEST
DTSTART:20270328T010000
END:DAYLIGHT
BEGIN:STANDARD
TZOFFSETFROM:+0200
TZOFFSETTO:+0100
TZNAME:CET
DTSTART:20271031T010000
END:STANDARD
END:VTIMEZONE
BEGIN:VEVENT
DTSTART;TZID=Europe/Berlin:20260926T080000
DTEND;TZID=Europe/Berlin:20260926T130000
DTSTAMP:20260423T214521
CREATED:20260329T064428Z
LAST-MODIFIED:20260329T065047Z
UID:8042-1790409600-1790427600@psv-duisburg.de
SUMMARY:Kreismeisterschaft Teil II  der Trapschützen in Hünxe
DESCRIPTION:Schies­stand Hünxe:: \nHeute fin­det der zweite  Ter­min für alle die am ers­ten Ter­min ver­hin­dert waren unse­rer Kreis­meis­ter­schaft statt. Wir freuen uns auf zahl­rei­che Teilnahme. \nBis bald.
URL:https://psv-duisburg.de/event/training-der-trapschuetzen-in-huenxe-4/
LOCATION:Wese­ler Str. 78\, 46569 Hünxe
END:VEVENT
END:VCALENDAR