BEGIN:VCALENDAR
VERSION:2.0
PRODID:-//PSV Duisburg - ECPv6.15.17.1//NONSGML v1.0//EN
CALSCALE:GREGORIAN
METHOD:PUBLISH
X-WR-CALNAME:PSV Duisburg
X-ORIGINAL-URL:https://psv-duisburg.de
X-WR-CALDESC:Veranstaltungen für PSV Duisburg
REFRESH-INTERVAL;VALUE=DURATION:PT1H
X-Robots-Tag:noindex
X-PUBLISHED-TTL:PT1H
BEGIN:VTIMEZONE
TZID:Europe/Berlin
BEGIN:DAYLIGHT
TZOFFSETFROM:+0100
TZOFFSETTO:+0200
TZNAME:CEST
DTSTART:20250330T010000
END:DAYLIGHT
BEGIN:STANDARD
TZOFFSETFROM:+0200
TZOFFSETTO:+0100
TZNAME:CET
DTSTART:20251026T010000
END:STANDARD
BEGIN:DAYLIGHT
TZOFFSETFROM:+0100
TZOFFSETTO:+0200
TZNAME:CEST
DTSTART:20260329T010000
END:DAYLIGHT
BEGIN:STANDARD
TZOFFSETFROM:+0200
TZOFFSETTO:+0100
TZNAME:CET
DTSTART:20261025T010000
END:STANDARD
BEGIN:DAYLIGHT
TZOFFSETFROM:+0100
TZOFFSETTO:+0200
TZNAME:CEST
DTSTART:20270328T010000
END:DAYLIGHT
BEGIN:STANDARD
TZOFFSETFROM:+0200
TZOFFSETTO:+0100
TZNAME:CET
DTSTART:20271031T010000
END:STANDARD
END:VTIMEZONE
BEGIN:VEVENT
DTSTART;TZID=Europe/Berlin:20260829T080000
DTEND;TZID=Europe/Berlin:20260829T130000
DTSTAMP:20260423T140825
CREATED:20260201T155403Z
LAST-MODIFIED:20260329T064201Z
UID:7936-1787990400-1788008400@psv-duisburg.de
SUMMARY:Kreismeisterschaft Teil I der Trapschützen in Hünxe
DESCRIPTION:Schies­stand Hünxe:: \nHeute fin­det der erste Ter­min unse­rer Kreis­meis­ter­schaft statt. Wir freuen uns auf zahl­rei­che Teilnahme. \nBis bald.
URL:https://psv-duisburg.de/event/training-der-trapschuetzen-in-huenxe-2/
LOCATION:Wese­ler Str. 78\, 46569 Hünxe
END:VEVENT
BEGIN:VEVENT
DTSTART;TZID=Europe/Berlin:20260926T080000
DTEND;TZID=Europe/Berlin:20260926T130000
DTSTAMP:20260423T140826
CREATED:20260329T064428Z
LAST-MODIFIED:20260329T065047Z
UID:8042-1790409600-1790427600@psv-duisburg.de
SUMMARY:Kreismeisterschaft Teil II  der Trapschützen in Hünxe
DESCRIPTION:Schies­stand Hünxe:: \nHeute fin­det der zweite  Ter­min für alle die am ers­ten Ter­min ver­hin­dert waren unse­rer Kreis­meis­ter­schaft statt. Wir freuen uns auf zahl­rei­che Teilnahme. \nBis bald.
URL:https://psv-duisburg.de/event/training-der-trapschuetzen-in-huenxe-4/
LOCATION:Wese­ler Str. 78\, 46569 Hünxe
END:VEVENT
BEGIN:VEVENT
DTSTART;TZID=Europe/Berlin:20261031T080000
DTEND;TZID=Europe/Berlin:20261031T130000
DTSTAMP:20260423T140826
CREATED:20260329T064533Z
LAST-MODIFIED:20260329T064533Z
UID:8044-1793433600-1793451600@psv-duisburg.de
SUMMARY:Training der Trapschützen in Hünxe
DESCRIPTION:Schies­stand Hünxe::  Jeden letz­ten Sams­tag im Monat außer es fin­det eine Meis­ter­schaft in den Monat statt. Es erwar­ten euch eine tolle Stand­ge­mein­schaft\, heis­ser Kaf­fee\, und unge­mein viele Wurf­schei­ben zum Kaputt machen..:-))Wir freuen uns auf euch.
URL:https://psv-duisburg.de/event/training-der-trapschuetzen-in-huenxe-5/
LOCATION:Wese­ler Str. 78\, 46569 Hünxe
END:VEVENT
BEGIN:VEVENT
DTSTART;TZID=Europe/Berlin:20261128T080000
DTEND;TZID=Europe/Berlin:20261128T130000
DTSTAMP:20260423T140826
CREATED:20260329T064837Z
LAST-MODIFIED:20260329T064837Z
UID:8046-1795852800-1795870800@psv-duisburg.de
SUMMARY:Training der Trapschützen in Hünxe
DESCRIPTION:Schies­stand Hünxe::  Jeden letz­ten Sams­tag im Monat außer es fin­det eine Meis­ter­schaft in den Monat statt. Es erwar­ten euch eine tolle Stand­ge­mein­schaft\, heis­ser Kaf­fee\, und unge­mein viele Wurf­schei­ben zum Kaputt machen..:-))Wir freuen uns auf euch.
URL:https://psv-duisburg.de/event/training-der-trapschuetzen-in-huenxe-6/
LOCATION:NRW
END:VEVENT
END:VCALENDAR