BEGIN:VCALENDAR
VERSION:2.0
PRODID:-//PSV Duisburg - ECPv6.15.17.1//NONSGML v1.0//EN
CALSCALE:GREGORIAN
METHOD:PUBLISH
X-WR-CALNAME:PSV Duisburg
X-ORIGINAL-URL:https://psv-duisburg.de
X-WR-CALDESC:Veranstaltungen für PSV Duisburg
REFRESH-INTERVAL;VALUE=DURATION:PT1H
X-Robots-Tag:noindex
X-PUBLISHED-TTL:PT1H
BEGIN:VTIMEZONE
TZID:Europe/Berlin
BEGIN:DAYLIGHT
TZOFFSETFROM:+0100
TZOFFSETTO:+0200
TZNAME:CEST
DTSTART:20250330T010000
END:DAYLIGHT
BEGIN:STANDARD
TZOFFSETFROM:+0200
TZOFFSETTO:+0100
TZNAME:CET
DTSTART:20251026T010000
END:STANDARD
BEGIN:DAYLIGHT
TZOFFSETFROM:+0100
TZOFFSETTO:+0200
TZNAME:CEST
DTSTART:20260329T010000
END:DAYLIGHT
BEGIN:STANDARD
TZOFFSETFROM:+0200
TZOFFSETTO:+0100
TZNAME:CET
DTSTART:20261025T010000
END:STANDARD
BEGIN:DAYLIGHT
TZOFFSETFROM:+0100
TZOFFSETTO:+0200
TZNAME:CEST
DTSTART:20270328T010000
END:DAYLIGHT
BEGIN:STANDARD
TZOFFSETFROM:+0200
TZOFFSETTO:+0100
TZNAME:CET
DTSTART:20271031T010000
END:STANDARD
END:VTIMEZONE
BEGIN:VEVENT
DTSTART;TZID=Europe/Berlin:20260501T080000
DTEND;TZID=Europe/Berlin:20260501T170000
DTSTAMP:20260423T105435
CREATED:20260420T111516Z
LAST-MODIFIED:20260420T111532Z
UID:8108-1777622400-1777654800@psv-duisburg.de
SUMMARY:BDS Landesmeisterschaft 2026 KW in Bocholt
DESCRIPTION:An den Tagen 25.04.\, 01.05. und 23.05.2026 fin­det in Bocholt die LM KW statt. \nDer PSV wird mit zwei Teil­neh­mern mit fol­gen­den Dis­zi­pli­nen vor Ort sein \n\n1101\,5/1001\,5 – Pis­tole bis 9mm\n1102\,5/1002\,5 – Pis­tole über 9mm\n1108\,5/1008\,5 – Revol­ver bis 357mag\n1109\,5/1009\,5 – Revol­ver über 357 mag\n1110\,5/1010\,5 – Freie Klasse Pistole/​Revolver 22lr offene Visierung\n1115\,5/1015\,5 – Freie Klasse Pistole/​Revolver 32 S&W long
URL:https://psv-duisburg.de/event/bds-landesmeisterschaft-2026-kw-in-bocholt/
LOCATION:<span class="caps">LV</span> 4 – Lan­des­leis­tungs­zen­trum – Schieß­stand Schmeink <span class="amp">&</span> Sohn\, Dinxperloer Str. 356\, 46399 Bocholt-Spork\, 46399
CATEGORIES:BDS,Landesmeisterschaft
ORGANIZER;CN="BDS-Schie%C3%9Fen":MAILTO:horst.hauck@web.de
END:VEVENT
BEGIN:VEVENT
DTSTART;TZID=Europe/Berlin:20260502T100000
DTEND;TZID=Europe/Berlin:20260502T140000
DTSTAMP:20260423T105435
CREATED:20260122T075032Z
LAST-MODIFIED:20260420T110133Z
UID:7820-1777716000-1777730400@psv-duisburg.de
SUMMARY:Langwaffenschießen in Berka
DESCRIPTION:An jedem 1.ten Sams­tag des Monats\, fin­det in Rhein­berg beim SLZ Berka\, das Lang­waf­fen Trai­ning von 10:00Uhr bis 14:00Uhr statt. \nWir haben den 50 Meter-Stand für unse­ren Ver­ein in die­ser Zeit ange­mie­tet und stel­len die Standaufsicht. \nDer Stand besitzt 6 Schieß­bah­nen\, die mit Lang­waf­fen bis 3500 Joule genutzt wer­den können.\nDas Schie­ßen mit Schwarz­pul­ver ist nicht gestattet. \nFür den rei­bungs­lo­sen Ablauf und zur Ver­mei­dung von unnö­ti­gen War­te­zei­ten nut­zen wir ein Buchungstool.\nUnsere Mit­glie­der kön­nen sich Zeit­blö­cke zu je 50 Minu­ten reservieren. \nIn der Zeit vom 01.02. bis zum 31.07.2026 kann die BDS Ver­eins­meis­ter­schaft LW geschos­sen wer­den\, BDS Mit­glied­schaft und Anmel­dung lt. Aus­schrei­bung erforderlich. \nDie VM Teil­neh­mer haben Vor­rang im Ablauf und wer­den über­wie­gend in der Zeit von 10:00 – 12:00 Uhr eingeplant.  \nDas Reser­vie­rungs­tool wird ca. 2 Wochen vor dem aktu­el­len Ter­min freigeschaltet. \nHier der Link zur Teil­nah­me­liste
URL:https://psv-duisburg.de/event/langwaffenschiessen-in-berka-30/
LOCATION:<span class="caps">SLZ</span> Berka\, Römerstr. 200\, Rheinberg\, NRW\, 47495\, Deutschland
CATEGORIES:BDS,PSV Schießsport,Training,Vereinsmeisterschaft
ORGANIZER;CN="BDS-Schie%C3%9Fen":MAILTO:horst.hauck@web.de
END:VEVENT
BEGIN:VEVENT
DTSTART;TZID=Europe/Berlin:20260504T150000
DTEND;TZID=Europe/Berlin:20260504T210000
DTSTAMP:20260423T105435
CREATED:20260409T191926Z
LAST-MODIFIED:20260409T191927Z
UID:8077-1777906800-1777928400@psv-duisburg.de
SUMMARY:Training in Duissern
DESCRIPTION:Jeden Mon­tag und Mitt­woch fin­det das Kurz­waf­fen- und Luft­druck­waf­fen-Trai­ning der Schieß­sport­ab­tei­lung des Poli­zei­sport­ver­ein Duis­burg 1920 e.V.\, in der ange­mie­te­ten Schieß­halle des DSSVs statt. \n\nimmer ab 15:00 Uhr KK– und GK-Kurz­waffe im Kali­ber .22lr. bis .44Mag.\nnach Bedarf und nur bei vor­he­ri­ger Anmel­dung ist die Teil­nahme an der Ver­eins­meis­ter­schaft\, zwi­schen 16:00 Uhr und 18:00 Uhr\,  für die BDS-Dis­zi­pli­nen im Bereich der Kurz­waf­fen möglich.\nmon­tags ab 19:00 Uhr Luft­druck-Pis­tole und -Gewehr\nmitt­wochs ab 18:00 Uhr Luft­druck-Pis­tole und ‑Gewehr\n\nAblauf Teil­nahme BDS-Meis­ter­schaft: Bitte den BDS-Sport­lei­ter vorab infor­mie­ren in wel­chen Dis­zi­pli­nen und wann man bei der ver­eins­ins­in­ter­nen Meis­ter­schaft teil­neh­men möchte. Er wird einen Ter­min ver­ge­ben und Wett­kampf­schei­ben mit­brin­gen. Die BDS-Ver­eins­meis­ter­schaf­ten fin­den im Zeit­raum ab dem 01.02. bis zum 31.07.2026 statt. Die Kurz­waf­fen­dis­zi­pli­nen wer­den in Duis­sern unter der Auf­sicht des Sport­lei­ters geschos­sen. Diese Ver­eins­meis­ter­schaf­ten wer­den vom Ver­band BDS und der Behörde als Bedürf­nis­nach­weis  §14Abs.5 WaffG anerkannt.
URL:https://psv-duisburg.de/event/training-in-duissern-346/
LOCATION:Schieß­stand Duissern\, Rübenstr. 60\, Duisburg\, NRW\, 47058\, Deutschland
CATEGORIES:PSV Schießsport,Training
ORGANIZER;CN="Polizeisportverein Duisburg 1920 e.V. - Abteilung Schie%C3%9Fsport":MAILTO:rdietze1@web.de
END:VEVENT
BEGIN:VEVENT
DTSTART;TZID=Europe/Berlin:20260506T150000
DTEND;TZID=Europe/Berlin:20260506T200000
DTSTAMP:20260423T105435
CREATED:20260409T192027Z
LAST-MODIFIED:20260409T192027Z
UID:8079-1778079600-1778097600@psv-duisburg.de
SUMMARY:Training in Duissern
DESCRIPTION:Jeden Mon­tag und Mitt­woch fin­det das Kurz­waf­fen- und Luft­druck­waf­fen-Trai­ning der Schieß­sport­ab­tei­lung des Poli­zei­sport­ver­ein Duis­burg 1920 e.V.\, in der ange­mie­te­ten Schieß­halle des DSSVs statt. \n\nimmer ab 15:00 Uhr KK– und GK-Kurz­waffe im Kali­ber .22lr. bis .44Mag.\nnach Bedarf und nur bei vor­he­ri­ger Anmel­dung ist die Teil­nahme an der Ver­eins­meis­ter­schaft\, zwi­schen 16:00 Uhr und 18:00 Uhr\,  für die BDS-Dis­zi­pli­nen im Bereich der Kurz­waf­fen möglich.\nmon­tags ab 19:00 Uhr Luft­druck-Pis­tole und -Gewehr\nmitt­wochs ab 18:00 Uhr Luft­druck-Pis­tole und ‑Gewehr\n\nAblauf Teil­nahme BDS-Meis­ter­schaft: Bitte den BDS-Sport­lei­ter vorab infor­mie­ren in wel­chen Dis­zi­pli­nen und wann man bei der ver­eins­ins­in­ter­nen Meis­ter­schaft teil­neh­men möchte. Er wird einen Ter­min ver­ge­ben und Wett­kampf­schei­ben mit­brin­gen. Die BDS-Ver­eins­meis­ter­schaf­ten fin­den im Zeit­raum ab dem 01.02. bis zum 31.07.2026 statt. Die Kurz­waf­fen­dis­zi­pli­nen wer­den in Duis­sern unter der Auf­sicht des Sport­lei­ters geschos­sen. Diese Ver­eins­meis­ter­schaf­ten wer­den vom Ver­band BDS und der Behörde als Bedürf­nis­nach­weis  §14Abs.5 WaffG anerkannt.
URL:https://psv-duisburg.de/event/training-in-duissern-347/
LOCATION:Schieß­stand Duissern\, Rübenstr. 60\, Duisburg\, NRW\, 47058\, Deutschland
CATEGORIES:PSV Schießsport,Training
ORGANIZER;CN="Polizeisportverein Duisburg 1920 e.V. - Abteilung Schie%C3%9Fsport":MAILTO:rdietze1@web.de
END:VEVENT
BEGIN:VEVENT
DTSTART;TZID=Europe/Berlin:20260523T080000
DTEND;TZID=Europe/Berlin:20260523T170000
DTSTAMP:20260423T105435
CREATED:20260420T111717Z
LAST-MODIFIED:20260420T111717Z
UID:8111-1779523200-1779555600@psv-duisburg.de
SUMMARY:BDS Landesmeisterschaft 2026 KW in Bocholt
DESCRIPTION:An den Tagen 25.04.\, 01.05. und 23.05.2026 fin­det in Bocholt die LM KW statt. \nDer PSV wird mit zwei Teil­neh­mern mit fol­gen­den Dis­zi­pli­nen vor Ort sein \n\n1101\,5/1001\,5 – Pis­tole bis 9mm\n1102\,5/1002\,5 – Pis­tole über 9mm\n1108\,5/1008\,5 – Revol­ver bis 357mag\n1109\,5/1009\,5 – Revol­ver über 357 mag\n1110\,5/1010\,5 – Freie Klasse Pistole/​Revolver 22lr offene Visierung\n1115\,5/1015\,5 – Freie Klasse Pistole/​Revolver 32 S&W long
URL:https://psv-duisburg.de/event/bds-landesmeisterschaft-2026-kw-in-bocholt-2/
LOCATION:<span class="caps">LV</span> 4 – Lan­des­leis­tungs­zen­trum – Schieß­stand Schmeink <span class="amp">&</span> Sohn\, Dinxperloer Str. 356\, 46399 Bocholt-Spork\, 46399
CATEGORIES:BDS,Landesmeisterschaft
ORGANIZER;CN="BDS-Schie%C3%9Fen":MAILTO:horst.hauck@web.de
END:VEVENT
BEGIN:VEVENT
DTSTART;TZID=Europe/Berlin:20260530T080000
DTEND;TZID=Europe/Berlin:20260530T130000
DTSTAMP:20260423T105435
CREATED:20260201T160227Z
LAST-MODIFIED:20260329T063616Z
UID:7941-1780128000-1780146000@psv-duisburg.de
SUMMARY:Vereinsmeisterschaft I der Trapschützen
DESCRIPTION:Schies­stand Hünxe:: Heute fin­det der erste Ter­min unse­rer Ver­eins­meis­ter­schaft statt. Wir freuen uns auf zahl­rei­che Teilnahme. \nBis bald..
URL:https://psv-duisburg.de/event/training-der-trapschuetzen-in-huenxe-3/
LOCATION:Wese­ler Str. 78\, 46569 Hünxe
END:VEVENT
END:VCALENDAR