BEGIN:VCALENDAR
VERSION:2.0
PRODID:-//PSV Duisburg - ECPv6.15.17.1//NONSGML v1.0//EN
CALSCALE:GREGORIAN
METHOD:PUBLISH
X-ORIGINAL-URL:https://psv-duisburg.de
X-WR-CALDESC:Veranstaltungen für PSV Duisburg
REFRESH-INTERVAL;VALUE=DURATION:PT1H
X-Robots-Tag:noindex
X-PUBLISHED-TTL:PT1H
BEGIN:VTIMEZONE
TZID:Europe/Berlin
BEGIN:DAYLIGHT
TZOFFSETFROM:+0100
TZOFFSETTO:+0200
TZNAME:CEST
DTSTART:20250330T010000
END:DAYLIGHT
BEGIN:STANDARD
TZOFFSETFROM:+0200
TZOFFSETTO:+0100
TZNAME:CET
DTSTART:20251026T010000
END:STANDARD
BEGIN:DAYLIGHT
TZOFFSETFROM:+0100
TZOFFSETTO:+0200
TZNAME:CEST
DTSTART:20260329T010000
END:DAYLIGHT
BEGIN:STANDARD
TZOFFSETFROM:+0200
TZOFFSETTO:+0100
TZNAME:CET
DTSTART:20261025T010000
END:STANDARD
BEGIN:DAYLIGHT
TZOFFSETFROM:+0100
TZOFFSETTO:+0200
TZNAME:CEST
DTSTART:20270328T010000
END:DAYLIGHT
BEGIN:STANDARD
TZOFFSETFROM:+0200
TZOFFSETTO:+0100
TZNAME:CET
DTSTART:20271031T010000
END:STANDARD
END:VTIMEZONE
BEGIN:VEVENT
DTSTART;VALUE=DATE:20260613
DTEND;VALUE=DATE:20260615
DTSTAMP:20260423T124021
CREATED:20260201T160042Z
LAST-MODIFIED:20260202T111551Z
UID:7938-1781308800-1781481599@psv-duisburg.de
SUMMARY:RSB Landesmeisterschaft 3.10 Flinte Trap in Bad Neuenahr
DESCRIPTION:Heute wird die Lan­des­meis­ter­schaft in Bad Neu­en­ahr aus­ge­tra­gen. Die Start­zei­ten wer­den nach Ein­gang an die Schüt­zen wei­ter­ge­ge­ben. Wir wün­schen allen Teil­neh­mer ein gutes gelin­gen und ein siche­res Auge
URL:https://psv-duisburg.de/event/rsb-landesmeisterschaft-3-10-flinte-trap-in-bad-neuenahr/
LOCATION:<span class="caps">LLZ</span> Bad Neuenahr\, Im Schwertstal 98\, Bad Neuenahr - Ahrweiler\, 53474\, Deutschland
CATEGORIES:Landesmeisterschaft,Trap
ORGANIZER;CN="Rheinischer Sch%C3%BCtzenbund e.V. 1872":MAILTO:info@rsb2020.de
END:VEVENT
END:VCALENDAR