BEGIN:VCALENDAR
VERSION:2.0
PRODID:-//PSV Duisburg - ECPv6.15.17.1//NONSGML v1.0//EN
CALSCALE:GREGORIAN
METHOD:PUBLISH
X-WR-CALNAME:PSV Duisburg
X-ORIGINAL-URL:https://psv-duisburg.de
X-WR-CALDESC:Veranstaltungen für PSV Duisburg
REFRESH-INTERVAL;VALUE=DURATION:PT1H
X-Robots-Tag:noindex
X-PUBLISHED-TTL:PT1H
BEGIN:VTIMEZONE
TZID:Europe/Berlin
BEGIN:DAYLIGHT
TZOFFSETFROM:+0100
TZOFFSETTO:+0200
TZNAME:CEST
DTSTART:20250330T010000
END:DAYLIGHT
BEGIN:STANDARD
TZOFFSETFROM:+0200
TZOFFSETTO:+0100
TZNAME:CET
DTSTART:20251026T010000
END:STANDARD
BEGIN:DAYLIGHT
TZOFFSETFROM:+0100
TZOFFSETTO:+0200
TZNAME:CEST
DTSTART:20260329T010000
END:DAYLIGHT
BEGIN:STANDARD
TZOFFSETFROM:+0200
TZOFFSETTO:+0100
TZNAME:CET
DTSTART:20261025T010000
END:STANDARD
BEGIN:DAYLIGHT
TZOFFSETFROM:+0100
TZOFFSETTO:+0200
TZNAME:CEST
DTSTART:20270328T010000
END:DAYLIGHT
BEGIN:STANDARD
TZOFFSETFROM:+0200
TZOFFSETTO:+0100
TZNAME:CET
DTSTART:20271031T010000
END:STANDARD
END:VTIMEZONE
BEGIN:VEVENT
DTSTART;TZID=Europe/Berlin:20260422T150000
DTEND;TZID=Europe/Berlin:20260422T200000
DTSTAMP:20260421T143131
CREATED:20260409T191633Z
LAST-MODIFIED:20260409T191633Z
UID:8071-1776870000-1776888000@psv-duisburg.de
SUMMARY:Training in Duissern
DESCRIPTION:Jeden Mon­tag und Mitt­woch fin­det das Kurz­waf­fen- und Luft­druck­waf­fen-Trai­ning der Schieß­sport­ab­tei­lung des Poli­zei­sport­ver­ein Duis­burg 1920 e.V.\, in der ange­mie­te­ten Schieß­halle des DSSVs statt. \n\nimmer ab 15:00 Uhr KK– und GK-Kurz­waffe im Kali­ber .22lr. bis .44Mag.\nnach Bedarf und nur bei vor­he­ri­ger Anmel­dung ist die Teil­nahme an der Ver­eins­meis­ter­schaft\, zwi­schen 16:00 Uhr und 18:00 Uhr\,  für die BDS-Dis­zi­pli­nen im Bereich der Kurz­waf­fen möglich.\nmon­tags ab 19:00 Uhr Luft­druck-Pis­tole und -Gewehr\nmitt­wochs ab 18:00 Uhr Luft­druck-Pis­tole und ‑Gewehr\n\nAblauf Teil­nahme BDS-Meis­ter­schaft: Bitte den BDS-Sport­lei­ter vorab infor­mie­ren in wel­chen Dis­zi­pli­nen und wann man bei der ver­eins­ins­in­ter­nen Meis­ter­schaft teil­neh­men möchte. Er wird einen Ter­min ver­ge­ben und Wett­kampf­schei­ben mit­brin­gen. Die BDS-Ver­eins­meis­ter­schaf­ten fin­den im Zeit­raum ab dem 01.02. bis zum 31.07.2026 statt. Die Kurz­waf­fen­dis­zi­pli­nen wer­den in Duis­sern unter der Auf­sicht des Sport­lei­ters geschos­sen. Diese Ver­eins­meis­ter­schaf­ten wer­den vom Ver­band BDS und der Behörde als Bedürf­nis­nach­weis  §14Abs.5 WaffG anerkannt.
URL:https://psv-duisburg.de/event/training-in-duissern-343/
LOCATION:Schieß­stand Duissern\, Rübenstr. 60\, Duisburg\, NRW\, 47058\, Deutschland
CATEGORIES:PSV Schießsport,Training
ORGANIZER;CN="Polizeisportverein Duisburg 1920 e.V. - Abteilung Schie%C3%9Fsport":MAILTO:rdietze1@web.de
END:VEVENT
BEGIN:VEVENT
DTSTART;TZID=Europe/Berlin:20260425T080000
DTEND;TZID=Europe/Berlin:20260425T170000
DTSTAMP:20260421T143131
CREATED:20260420T111201Z
LAST-MODIFIED:20260420T111339Z
UID:8105-1777104000-1777136400@psv-duisburg.de
SUMMARY:BDS Landesmeisterschaft 2026 KW in Bocholt
DESCRIPTION:An den Tagen 25.04.\, 01.05. und 23.05.2026 fin­det in Bocholt die LM KW statt. \nDer PSV wird mit zwei Teil­neh­mern mit fol­gen­den Dis­zi­pli­nen vor Ort sein \n\n1101\,5/1001\,5 – Pis­tole bis 9mm\n1102\,5/1002\,5 – Pis­tole über 9mm\n1108\,5/1008\,5 – Revol­ver bis 357mag\n1109\,5/1009\,5 – Revol­ver über 357 mag\n1110\,5/1010\,5 – Freie Klasse Pistole/​Revolver 22lr offene Visierung\n1115\,5/1015\,5 – Freie Klasse Pistole/​Revolver 32 S&W long
URL:https://psv-duisburg.de/event/bds-landesmeisterschaft-2023-kw-in-bocholt/
LOCATION:<span class="caps">LV</span> 4 – Lan­des­leis­tungs­zen­trum – Schieß­stand Schmeink <span class="amp">&</span> Sohn\, Dinxperloer Str. 356\, 46399 Bocholt-Spork\, 46399
CATEGORIES:BDS,Landesmeisterschaft
ORGANIZER;CN="BDS-Schie%C3%9Fen":MAILTO:horst.hauck@web.de
END:VEVENT
BEGIN:VEVENT
DTSTART;TZID=Europe/Berlin:20260425T140000
DTEND;TZID=Europe/Berlin:20260425T190000
DTSTAMP:20260421T143131
CREATED:20260122T143243Z
LAST-MODIFIED:20260122T143243Z
UID:7870-1777125600-1777143600@psv-duisburg.de
SUMMARY:RSB Bezirksmeisterschaft 3.10 Flinte Trap - in Bad Neuenahr
DESCRIPTION:Heute schie­ßen unsere Ton­tau­ben-Schüt­zen die Bezirks­meis­ter­schaft in der Dis­zi­plin 3.10 Flinte Trap. \nWir wün­schen allen Teil­neh­mern viel Erfolg.
URL:https://psv-duisburg.de/event/rsb-bezirksmeisterschaft-3-10-flinte-trap-in-bad-neuenahr/
LOCATION:<span class="caps">LLZ</span> Bad Neuenahr\, Im Schwertstal 98\, Bad Neuenahr - Ahrweiler\, 53474\, Deutschland
CATEGORIES:Bezirksmeisterschaft,PSV Schießsport,Trap
END:VEVENT
BEGIN:VEVENT
DTSTART;TZID=Europe/Berlin:20260427T150000
DTEND;TZID=Europe/Berlin:20260427T210000
DTSTAMP:20260421T143131
CREATED:20260409T191727Z
LAST-MODIFIED:20260409T191728Z
UID:8073-1777302000-1777323600@psv-duisburg.de
SUMMARY:Training in Duissern
DESCRIPTION:Jeden Mon­tag und Mitt­woch fin­det das Kurz­waf­fen- und Luft­druck­waf­fen-Trai­ning der Schieß­sport­ab­tei­lung des Poli­zei­sport­ver­ein Duis­burg 1920 e.V.\, in der ange­mie­te­ten Schieß­halle des DSSVs statt. \n\nimmer ab 15:00 Uhr KK– und GK-Kurz­waffe im Kali­ber .22lr. bis .44Mag.\nnach Bedarf und nur bei vor­he­ri­ger Anmel­dung ist die Teil­nahme an der Ver­eins­meis­ter­schaft\, zwi­schen 16:00 Uhr und 18:00 Uhr\,  für die BDS-Dis­zi­pli­nen im Bereich der Kurz­waf­fen möglich.\nmon­tags ab 19:00 Uhr Luft­druck-Pis­tole und -Gewehr\nmitt­wochs ab 18:00 Uhr Luft­druck-Pis­tole und ‑Gewehr\n\nAblauf Teil­nahme BDS-Meis­ter­schaft: Bitte den BDS-Sport­lei­ter vorab infor­mie­ren in wel­chen Dis­zi­pli­nen und wann man bei der ver­eins­ins­in­ter­nen Meis­ter­schaft teil­neh­men möchte. Er wird einen Ter­min ver­ge­ben und Wett­kampf­schei­ben mit­brin­gen. Die BDS-Ver­eins­meis­ter­schaf­ten fin­den im Zeit­raum ab dem 01.02. bis zum 31.07.2026 statt. Die Kurz­waf­fen­dis­zi­pli­nen wer­den in Duis­sern unter der Auf­sicht des Sport­lei­ters geschos­sen. Diese Ver­eins­meis­ter­schaf­ten wer­den vom Ver­band BDS und der Behörde als Bedürf­nis­nach­weis  §14Abs.5 WaffG anerkannt.
URL:https://psv-duisburg.de/event/training-in-duissern-344/
LOCATION:Schieß­stand Duissern\, Rübenstr. 60\, Duisburg\, NRW\, 47058\, Deutschland
CATEGORIES:PSV Schießsport,Training
ORGANIZER;CN="Polizeisportverein Duisburg 1920 e.V. - Abteilung Schie%C3%9Fsport":MAILTO:rdietze1@web.de
END:VEVENT
BEGIN:VEVENT
DTSTART;TZID=Europe/Berlin:20260429T150000
DTEND;TZID=Europe/Berlin:20260429T200000
DTSTAMP:20260421T143131
CREATED:20260409T191817Z
LAST-MODIFIED:20260409T191818Z
UID:8075-1777474800-1777492800@psv-duisburg.de
SUMMARY:Training in Duissern
DESCRIPTION:Jeden Mon­tag und Mitt­woch fin­det das Kurz­waf­fen- und Luft­druck­waf­fen-Trai­ning der Schieß­sport­ab­tei­lung des Poli­zei­sport­ver­ein Duis­burg 1920 e.V.\, in der ange­mie­te­ten Schieß­halle des DSSVs statt. \n\nimmer ab 15:00 Uhr KK– und GK-Kurz­waffe im Kali­ber .22lr. bis .44Mag.\nnach Bedarf und nur bei vor­he­ri­ger Anmel­dung ist die Teil­nahme an der Ver­eins­meis­ter­schaft\, zwi­schen 16:00 Uhr und 18:00 Uhr\,  für die BDS-Dis­zi­pli­nen im Bereich der Kurz­waf­fen möglich.\nmon­tags ab 19:00 Uhr Luft­druck-Pis­tole und -Gewehr\nmitt­wochs ab 18:00 Uhr Luft­druck-Pis­tole und ‑Gewehr\n\nAblauf Teil­nahme BDS-Meis­ter­schaft: Bitte den BDS-Sport­lei­ter vorab infor­mie­ren in wel­chen Dis­zi­pli­nen und wann man bei der ver­eins­ins­in­ter­nen Meis­ter­schaft teil­neh­men möchte. Er wird einen Ter­min ver­ge­ben und Wett­kampf­schei­ben mit­brin­gen. Die BDS-Ver­eins­meis­ter­schaf­ten fin­den im Zeit­raum ab dem 01.02. bis zum 31.07.2026 statt. Die Kurz­waf­fen­dis­zi­pli­nen wer­den in Duis­sern unter der Auf­sicht des Sport­lei­ters geschos­sen. Diese Ver­eins­meis­ter­schaf­ten wer­den vom Ver­band BDS und der Behörde als Bedürf­nis­nach­weis  §14Abs.5 WaffG anerkannt.
URL:https://psv-duisburg.de/event/training-in-duissern-345/
LOCATION:Schieß­stand Duissern\, Rübenstr. 60\, Duisburg\, NRW\, 47058\, Deutschland
CATEGORIES:PSV Schießsport,Training
ORGANIZER;CN="Polizeisportverein Duisburg 1920 e.V. - Abteilung Schie%C3%9Fsport":MAILTO:rdietze1@web.de
END:VEVENT
END:VCALENDAR